BEGIN:VCALENDAR
PRODID:-//eluceo/ical//2.0/EN
VERSION:2.0
CALSCALE:GREGORIAN
BEGIN:VEVENT
UID:77ab59eaa0f97759e810e4d95ed09882
DTSTAMP:20260421T150106Z
SUMMARY:1 PM KI Book N Bake
DESCRIPTION:Shalom Lehigh Valley\nCommunity Calendar\nhttps://shalomlehighv
 alley.org/calendar/1-pm-ki-book-n-bake-395036\n\nFirst ever WOKI\n\nBook N
 ' Bake\n\nDiscussion of the novel The Storyteller by Jodi Picoult. Learn
  to bake the sumptuous chocolate buns described in the novel with Martina 
 Obenski. During the rise time\, we will discuss the book with Audrey Nolt
 e. During the cooking time\, we will enjoy some wine and cheese for those 
 attending in person. (Must be vaccinated if you wish to remove your mask.)
  We will provide a supply list for anyone who registers.\n\nRegistration 
 will ask if you are attending ...
DTSTART;TZID=America/New_York:20220501T130000
DTEND;TZID=America/New_York:20220501T160000
END:VEVENT
END:VCALENDAR
