BEGIN:VCALENDAR
PRODID:-//eluceo/ical//2.0/EN
VERSION:2.0
CALSCALE:GREGORIAN
BEGIN:VEVENT
UID:030012de9320beaad7879222b1e5e2c5
DTSTAMP:20260420T051121Z
SUMMARY:10 AM KI Shabbat Out of the Box: Drumming with Moe Jerant
DESCRIPTION:Shalom Lehigh Valley\nCommunity Calendar\nhttps://shalomlehighv
 alley.org/calendar/10-am-ki-drumming-with-moe-jerant-393619\n\nCome celebr
 ate the New Year\, melt away stress\, and have fun with the legendary drum
  circle facilitator Moe Jerant. Moe uses drumming to create community and 
 an enjoyable\, relaxing experience that is sure to let your inner instrum
 entalist come alive. It's a rythym party where there are no wrong notes a
 nd everyone has permission to make noise! No prior musical experience is n
 ecessary. Drums and hand percussion instruments will be provided.\n\nRegis
 ter on kilv.org or call 610-435-9074 by Janua...
DTSTART;TZID=America/New_York:20220108T100000
DTEND;TZID=America/New_York:20220108T110000
END:VEVENT
END:VCALENDAR
