BEGIN:VCALENDAR
PRODID:-//eluceo/ical//2.0/EN
VERSION:2.0
CALSCALE:GREGORIAN
BEGIN:VEVENT
UID:a2763d761542a41647361afc08b31b48
DTSTAMP:20260422T003745Z
SUMMARY:10 AM KI The Library as a Community Resource
DESCRIPTION:Shalom Lehigh Valley\nCommunity Calendar\nhttps://shalomlehighv
 alley.org/calendar/10-am-ki-the-library-as-a-community-resource-390111\n\n
 Presented by Debbie Jack.  Debbie has worked in libraries for over 25 yea
 rs in NY\, NJ and PA.  She has been the Executive Director of the Parklan
 d Community Library since 2011 and lives in Macungie with her husband and 
 two children.  Register by Oct 29 to receive your link.  Contact Barry C
 ohen at (484) 241-8821 for questions.
DTSTART;TZID=America/New_York:20211031T100000
DTEND;TZID=America/New_York:20211031T120000
END:VEVENT
END:VCALENDAR
