BEGIN:VCALENDAR
PRODID:-//eluceo/ical//2.0/EN
VERSION:2.0
CALSCALE:GREGORIAN
BEGIN:VEVENT
UID:511e761ec346fde29575644b043ffa62
DTSTAMP:20260420T081351Z
SUMMARY:10 am TBE BimBom Buddies April 22\, 2023
DESCRIPTION:Shalom Lehigh Valley\nCommunity Calendar\nhttps://shalomlehighv
 alley.org/calendar/10-am-tbe-bimbom-buddies-april-22-2023-403824\n\n10 am 
 TBE BimBom Buddies
DTSTART;TZID=America/New_York:20230422T100000
DTEND;TZID=America/New_York:20230422T110000
END:VEVENT
END:VCALENDAR
