BEGIN:VCALENDAR
PRODID:-//eluceo/ical//2.0/EN
VERSION:2.0
CALSCALE:GREGORIAN
BEGIN:VEVENT
UID:127483dad4a0761aae0e33acd09dee4a
DTSTAMP:20260419T145020Z
SUMMARY:10 am TBE GPS May 6\, 2023
DESCRIPTION:Shalom Lehigh Valley\nCommunity Calendar\nhttps://shalomlehighv
 alley.org/calendar/10-am-tbe-gps-may-6-2023-403838\n\n10 am TBE GPS (Guide
 d Prayer Service)
DTSTART;TZID=America/New_York:20230506T100000
DTEND;TZID=America/New_York:20230506T110000
END:VEVENT
END:VCALENDAR
