BEGIN:VCALENDAR
PRODID:-//eluceo/ical//2.0/EN
VERSION:2.0
CALSCALE:GREGORIAN
BEGIN:VEVENT
UID:249330792bbcba37096b74c12c93a9c4
DTSTAMP:20260420T205107Z
SUMMARY:10 am TBE Pre-K\, Kindergarten and First Grade Class Service Februa
 ry 2022
DESCRIPTION:Shalom Lehigh Valley\nCommunity Calendar\nhttps://shalomlehighv
 alley.org/calendar/10-am-tbe-pre-k-kindergarten-and-first-grade-class-serv
 ice-february-2022-378400\n\n10 am TBE Pre-K\, Kindergarten and First Grade
  Class Service.
DTSTART;TZID=America/New_York:20220212T100000
DTEND;TZID=America/New_York:20220212T110000
END:VEVENT
END:VCALENDAR
