BEGIN:VCALENDAR
PRODID:-//eluceo/ical//2.0/EN
VERSION:2.0
CALSCALE:GREGORIAN
BEGIN:VEVENT
UID:4ebae381cef89bc32c6a102a0771d77e
DTSTAMP:20260421T203244Z
SUMMARY:10 am TBE School Model Seder
DESCRIPTION:Shalom Lehigh Valley\nCommunity Calendar\nhttps://shalomlehighv
 alley.org/calendar/10-am-tbe-school-model-seder-378455\n\nTBE School Model
  Sedar\, more details to follow.
DTSTART;TZID=America/New_York:20220410T100000
DTEND;TZID=America/New_York:20220410T110000
END:VEVENT
END:VCALENDAR
