BEGIN:VCALENDAR
PRODID:-//eluceo/ical//2.0/EN
VERSION:2.0
CALSCALE:GREGORIAN
BEGIN:VEVENT
UID:ccfb819766a04d794aee594e39a58310
DTSTAMP:20260420T183711Z
SUMMARY:10 am TBE Shabbat for Everyone March 4\, 2023
DESCRIPTION:Shalom Lehigh Valley\nCommunity Calendar\nhttps://shalomlehighv
 alley.org/calendar/10-am-tbe-shabbat-for-everyone-march-4-2023-403792\n\n1
 0 am TBE Shabbat for Everyone Service
DTSTART;TZID=America/New_York:20230304T100000
DTEND;TZID=America/New_York:20230304T110000
END:VEVENT
END:VCALENDAR
