BEGIN:VCALENDAR
PRODID:-//eluceo/ical//2.0/EN
VERSION:2.0
CALSCALE:GREGORIAN
BEGIN:VEVENT
UID:611c3fef6442ab1533885d7fc54aa24b
DTSTAMP:20260419T172744Z
SUMMARY:1:00 pm CBS Wisdom of the Talmud
DESCRIPTION:Shalom Lehigh Valley\nCommunity Calendar\nhttps://shalomlehighv
 alley.org/calendar/100-pm-cbs-wisdom-of-the-talmud-sept-2017-to-sept-2018-
 245668\n\nContact Tammy Watts: tammy@brithsholom.net or 610-866-8009.
DTSTART;TZID=America/New_York:20170902T130000
DTEND;TZID=America/New_York:20170902T143000
END:VEVENT
END:VCALENDAR
