BEGIN:VCALENDAR
PRODID:-//eluceo/ical//2.0/EN
VERSION:2.0
CALSCALE:GREGORIAN
BEGIN:VEVENT
UID:28b89eb0c28d742447e62c9cbd1e5a5a
DTSTAMP:20260421T043335Z
SUMMARY:1:00 p.m. Dealing with COVID-19 for Older Adults and their Caregive
 rs
DESCRIPTION:Shalom Lehigh Valley\nCommunity Calendar\nhttps://shalomlehighv
 alley.org/calendar/100-pm-dealing-with-covid-19-for-older-adults-and-their
 -caregivers-355331\n\nDealing with COVID-19 for Older Adults and their Car
 egivers\n\nwith Wendy Rapoport\, MSW\, LCSW and Carol Wilson\, MSW\, LSW\n
 \nThursday\, June 18\n\n1:00 to 2:00 p.m.\nvia Zoom
DTSTART;TZID=America/New_York:20200618T130000
DTEND;TZID=America/New_York:20200618T140000
END:VEVENT
END:VCALENDAR
