BEGIN:VCALENDAR
PRODID:-//eluceo/ical//2.0/EN
VERSION:2.0
CALSCALE:GREGORIAN
BEGIN:VEVENT
UID:1c9bc96438b9df19cdf44d98469bd145
DTSTAMP:20260420T004127Z
SUMMARY:1:00 pm JCC J-Days: Canasta & Cards
DESCRIPTION:Shalom Lehigh Valley\nCommunity Calendar\nhttps://shalomlehighv
 alley.org/calendar/100-pm-jcc-j-days-canasta-cards-11-2-17-251232\n\nConta
 ct Amy Sams: asams@lvjcc.org or 610-435-3571.
DTSTART;TZID=America/New_York:20171102T130000
DTEND;TZID=America/New_York:20171102T153000
END:VEVENT
END:VCALENDAR
