BEGIN:VCALENDAR
PRODID:-//eluceo/ical//2.0/EN
VERSION:2.0
CALSCALE:GREGORIAN
BEGIN:VEVENT
UID:c0b6840def27d811fad83a62dc9ce54f
DTSTAMP:20260419T185549Z
SUMMARY:1:00 pm JCC Tu B'Shevat Seder
DESCRIPTION:Shalom Lehigh Valley\nCommunity Calendar\nhttps://shalomlehighv
 alley.org/calendar/100-pm-jcc-tu-bshevat-seder-1-21-19-266787\n\nContact B
 renda Finberg: bfinberg@lvjcc.org or 610-435-3571.
DTSTART;TZID=America/New_York:20190121T113000
DTEND;TZID=America/New_York:20190121T124500
END:VEVENT
END:VCALENDAR
