BEGIN:VCALENDAR
PRODID:-//eluceo/ical//2.0/EN
VERSION:2.0
CALSCALE:GREGORIAN
BEGIN:VEVENT
UID:1537ab250f4f091d255ff6eb570652c9
DTSTAMP:20260419T170919Z
SUMMARY:1:00 pm TBE Healing Experience
DESCRIPTION:Shalom Lehigh Valley\nCommunity Calendar\nhttps://shalomlehighv
 alley.org/calendar/100-pm-tbe-healing-experience-december-2016-185729\n\nC
 ontact Michelle Rohrbach: michelle@bethelallentown.org or 610-435-3521.
DTSTART;TZID=America/New_York:20161208T130000
DTEND;TZID=America/New_York:20161208T140000
END:VEVENT
END:VCALENDAR
