BEGIN:VCALENDAR
PRODID:-//eluceo/ical//2.0/EN
VERSION:2.0
CALSCALE:GREGORIAN
BEGIN:VEVENT
UID:c43baf2d727d397f559673e225b302f1
DTSTAMP:20260419T191925Z
SUMMARY:1:00 pm TBE Men's Club Sukkah Take-Down
DESCRIPTION:Shalom Lehigh Valley\nCommunity Calendar\nhttps://shalomlehighv
 alley.org/calendar/100-pm-tbe-mens-club-sukkah-take-down-10-19-14-62041\n\
 nContact Michelle Rohrbach: michelle@bethelallentown.org or 610-435-3521.
DTSTART;TZID=America/New_York:20141019T130000
DTEND;TZID=America/New_York:20141019T140000
END:VEVENT
END:VCALENDAR
