BEGIN:VCALENDAR
PRODID:-//eluceo/ical//2.0/EN
VERSION:2.0
CALSCALE:GREGORIAN
BEGIN:VEVENT
UID:380fa3c5ba7ac8adf96d5f1fdd6da1d7
DTSTAMP:20260419T185915Z
SUMMARY:10:00 am BAS Sunday Brunch Bunch
DESCRIPTION:Shalom Lehigh Valley\nCommunity Calendar\nhttps://shalomlehighv
 alley.org/calendar/1000-am-bas-sunday-brunch-bunch-5-15-16-180359\n\nPrice
 : $6. Please RSVP to ihlewismd@yahoo.com or leave message at 610-253-2481.
DTSTART;TZID=America/New_York:20160515T100000
DTEND;TZID=America/New_York:20160515T120000
END:VEVENT
END:VCALENDAR
