BEGIN:VCALENDAR
PRODID:-//eluceo/ical//2.0/EN
VERSION:2.0
CALSCALE:GREGORIAN
BEGIN:VEVENT
UID:0258a611e891df69c4a3f7f6accf2cc5
DTSTAMP:20260420T123617Z
SUMMARY:10:00 am JCC Annual Meeting
DESCRIPTION:Shalom Lehigh Valley\nCommunity Calendar\nhttps://shalomlehighv
 alley.org/calendar/1000-am-jcc-annual-meeting-383384\n\nJCC Annual Meeting
  via Zoom
DTSTART;TZID=America/New_York:20220612T100000
DTEND;TZID=America/New_York:20220612T133000
END:VEVENT
END:VCALENDAR
