BEGIN:VCALENDAR
PRODID:-//eluceo/ical//2.0/EN
VERSION:2.0
CALSCALE:GREGORIAN
BEGIN:VEVENT
UID:74b4785b3d38f28720d5ba88528d9157
DTSTAMP:20260420T003208Z
SUMMARY:10:00 am JCC Camp Meet & Greet
DESCRIPTION:Shalom Lehigh Valley\nCommunity Calendar\nhttps://shalomlehighv
 alley.org/calendar/1000-am-jcc-camp-meet-greet-6-17-18-246901\n\nContact M
 ike Smith at msmith@lvjcc.org or 610-435-3571 x180
DTSTART;TZID=America/New_York:20180617T100000
DTEND;TZID=America/New_York:20180617T120000
END:VEVENT
END:VCALENDAR
