BEGIN:VCALENDAR
PRODID:-//eluceo/ical//2.0/EN
VERSION:2.0
CALSCALE:GREGORIAN
BEGIN:VEVENT
UID:92469dcb6faa0b519604d7cc35395f4e
DTSTAMP:20260420T091941Z
SUMMARY:10:00 am JCC Splash-n-Dash
DESCRIPTION:Shalom Lehigh Valley\nCommunity Calendar\nhttps://shalomlehighv
 alley.org/calendar/1000-am-jcc-splash-n-dash-9-3-17-181792\n\nContact Jodi
  Lovenwirth: jlovenwirth@lvjcc.org or 610-435-3571.
DTSTART;TZID=America/New_York:20170903T100000
DTEND;TZID=America/New_York:20170903T130000
END:VEVENT
END:VCALENDAR
