BEGIN:VCALENDAR
PRODID:-//eluceo/ical//2.0/EN
VERSION:2.0
CALSCALE:GREGORIAN
BEGIN:VEVENT
UID:6a548f8b3b92e26089edfcdba2e63578
DTSTAMP:20260420T214153Z
SUMMARY:10:00 AM JFLV YESOD Leadership Development Program 4
DESCRIPTION:Shalom Lehigh Valley\nCommunity Calendar\nhttps://shalomlehighv
 alley.org/calendar/1000-am-jflv-yesod-leadership-development-program-4-321
 104\n\nYESOD Leadership Development Program\, Session 4\n\nDesigned to cul
 tivate your inner Jewish leader\, this program merges Judaic text study\, 
 business skills\, leadership theory and experiential application\, enablin
 g you to become a better leader in the community.
DTSTART;TZID=America/New_York:20200119T100000
DTEND;TZID=America/New_York:20200119T120000
END:VEVENT
END:VCALENDAR
