BEGIN:VCALENDAR
PRODID:-//eluceo/ical//2.0/EN
VERSION:2.0
CALSCALE:GREGORIAN
BEGIN:VEVENT
UID:cf223a2b9d8e46c207ca95bffdc6d5d4
DTSTAMP:20260421T203234Z
SUMMARY:10:00 AM JFLV YESOD Leadership Development Program 6
DESCRIPTION:Shalom Lehigh Valley\nCommunity Calendar\nhttps://shalomlehighv
 alley.org/calendar/1000-am-jflv-yesod-leadership-development-program-6-321
 106\n\nYESOD Leadership Development Program\, Session 6\n\nDesigned to cul
 tivate your inner Jewish leader\, this program merges Judaic text study\, 
 business skills\, leadership theory and experiential application\, enablin
 g you to become a better leader in the community.
DTSTART;TZID=America/New_York:20200223T100000
DTEND;TZID=America/New_York:20200223T120000
END:VEVENT
END:VCALENDAR
