BEGIN:VCALENDAR
PRODID:-//eluceo/ical//2.0/EN
VERSION:2.0
CALSCALE:GREGORIAN
BEGIN:VEVENT
UID:d9ae8526385129dcc83e288baff6b4d6
DTSTAMP:20260420T020225Z
SUMMARY:10:00 am JFS Board Meeting
DESCRIPTION:Shalom Lehigh Valley\nCommunity Calendar\nhttps://shalomlehighv
 alley.org/calendar/1000-am-jfs-board-meeting-1-21-18-238106\n\nContact Deb
 bie Zoller: 610-821-8722 or dzoller@jfslv.org
DTSTART;TZID=America/New_York:20180121T100000
DTEND;TZID=America/New_York:20180121T120000
END:VEVENT
END:VCALENDAR
