BEGIN:VCALENDAR
PRODID:-//eluceo/ical//2.0/EN
VERSION:2.0
CALSCALE:GREGORIAN
BEGIN:VEVENT
UID:dca072529922b104bab40cb177411495
DTSTAMP:20260420T110921Z
SUMMARY:10:00 AM JFS Executive Board Meeting 01-13-2021
DESCRIPTION:Shalom Lehigh Valley\nCommunity Calendar\nhttps://shalomlehighv
 alley.org/calendar/1000-am-jfs-executive-board-meeting-01-13-2021-361919\n
 \nJFS Executive Board Meeting
DTSTART;TZID=America/New_York:20210113T100000
DTEND;TZID=America/New_York:20210113T120000
END:VEVENT
END:VCALENDAR
