BEGIN:VCALENDAR
PRODID:-//eluceo/ical//2.0/EN
VERSION:2.0
CALSCALE:GREGORIAN
BEGIN:VEVENT
UID:41207eece56c1e48c00b70ce1ff91b70
DTSTAMP:20260419T231154Z
SUMMARY:10:00 AM JFS Executive Board Meeting 05-12-2021
DESCRIPTION:Shalom Lehigh Valley\nCommunity Calendar\nhttps://shalomlehighv
 alley.org/calendar/1000-am-jfs-executive-board-meeting-05-12-2021-361924\n
 \nJFS Executive Board Meeting
DTSTART;TZID=America/New_York:20210512T100000
DTEND;TZID=America/New_York:20210512T120000
END:VEVENT
END:VCALENDAR
