BEGIN:VCALENDAR
PRODID:-//eluceo/ical//2.0/EN
VERSION:2.0
CALSCALE:GREGORIAN
BEGIN:VEVENT
UID:1e3f312b3cd1f1f7f8315cc1bd47f558
DTSTAMP:20260419T231112Z
SUMMARY:10:00 am JFS Executive Board Meeting
DESCRIPTION:Shalom Lehigh Valley\nCommunity Calendar\nhttps://shalomlehighv
 alley.org/calendar/1000-am-jfs-executive-board-meeting-1-11-17-194948\n\nC
 ontact Debbie Zoller: 610-821-8722 or dzoller@jfslv.org
DTSTART;TZID=America/New_York:20170111T100000
DTEND;TZID=America/New_York:20170111T120000
END:VEVENT
END:VCALENDAR
