BEGIN:VCALENDAR
PRODID:-//eluceo/ical//2.0/EN
VERSION:2.0
CALSCALE:GREGORIAN
BEGIN:VEVENT
UID:275c196e95e71740d13852384f66157f
DTSTAMP:20260421T124145Z
SUMMARY:10:00 AM JFS Executive Board Meeting 10-07-2020
DESCRIPTION:Shalom Lehigh Valley\nCommunity Calendar\nhttps://shalomlehighv
 alley.org/calendar/1000-am-jfs-executive-board-meeting-10-07-2020-358218\n
 \nJFS Executive Board Meeting
DTSTART;TZID=America/New_York:20201007T100000
DTEND;TZID=America/New_York:20201007T120000
END:VEVENT
END:VCALENDAR
