BEGIN:VCALENDAR
PRODID:-//eluceo/ical//2.0/EN
VERSION:2.0
CALSCALE:GREGORIAN
BEGIN:VEVENT
UID:b300c7da757086281c29fc6cc0b00742
DTSTAMP:20260419T125042Z
SUMMARY:10:00 AM JFS Executive Board Meeting 11-9-2022
DESCRIPTION:Shalom Lehigh Valley\nCommunity Calendar\nhttps://shalomlehighv
 alley.org/calendar/1000-am-jfs-executive-board-meeting-11-9-2022-411082\n\
 nJFS Executive Board Meeting
DTSTART;TZID=America/New_York:20221109T100000
DTEND;TZID=America/New_York:20221109T120000
END:VEVENT
END:VCALENDAR
