BEGIN:VCALENDAR
PRODID:-//eluceo/ical//2.0/EN
VERSION:2.0
CALSCALE:GREGORIAN
BEGIN:VEVENT
UID:be1552cdad922c98f5d2506d1a30eb88
DTSTAMP:20260419T224515Z
SUMMARY:10:00 am JFS Executive Board Meeting
DESCRIPTION:Shalom Lehigh Valley\nCommunity Calendar\nhttps://shalomlehighv
 alley.org/calendar/1000-am-jfs-executive-board-meeting-12-7-2016-194946\n\
 nContact Debbie Zoller: 610-821-8722 or dzoller@jfslv.org
DTSTART;TZID=America/New_York:20161207T100000
DTEND;TZID=America/New_York:20161207T130000
END:VEVENT
END:VCALENDAR
