BEGIN:VCALENDAR
PRODID:-//eluceo/ical//2.0/EN
VERSION:2.0
CALSCALE:GREGORIAN
BEGIN:VEVENT
UID:e387a73e8fcfb9a906de873871161eec
DTSTAMP:20260420T152140Z
SUMMARY:10:00 am JFS Executive Board Meeting
DESCRIPTION:Shalom Lehigh Valley\nCommunity Calendar\nhttps://shalomlehighv
 alley.org/calendar/1000-am-jfs-executive-board-meeting-5-16-18-234984\n\nC
 ontact Debbie Zoller: 610-821-8722 or dzoller@jfslv.org
DTSTART;TZID=America/New_York:20180516T100000
DTEND;TZID=America/New_York:20180516T120000
END:VEVENT
END:VCALENDAR
