BEGIN:VCALENDAR
PRODID:-//eluceo/ical//2.0/EN
VERSION:2.0
CALSCALE:GREGORIAN
BEGIN:VEVENT
UID:d97c065b2655e5c9b209cfe44476c42f
DTSTAMP:20260419T145137Z
SUMMARY:10:00 am JFS Presents 8ish Over 80ish
DESCRIPTION:Shalom Lehigh Valley\nCommunity Calendar\nhttps://shalomlehighv
 alley.org/calendar/1000-am-jfs-presents-8ish-over-80ish-252600\n\nContact 
 Debbie Zoller: 610-821-8722 or dzoller@jfslv.org
DTSTART;TZID=America/New_York:20181111T100000
DTEND;TZID=America/New_York:20181111T120000
END:VEVENT
END:VCALENDAR
