BEGIN:VCALENDAR
PRODID:-//eluceo/ical//2.0/EN
VERSION:2.0
CALSCALE:GREGORIAN
BEGIN:VEVENT
UID:92a6ea820dc5a9c461a6744bec36c5c1
DTSTAMP:20260420T020027Z
SUMMARY:10:00 am JFS Phyllis Ringel Lecture: Shining a Light on Palliative 
 Care
DESCRIPTION:Shalom Lehigh Valley\nCommunity Calendar\nhttps://shalomlehighv
 alley.org/calendar/1000-am-phyllis-ringel-annual-lecture-282583\n\nJoin Je
 wish Family Service for a kosher brunch and presentation on this important
  topic. The program is free of charge.\n\nPresenter Dr. Jenni Levy has ove
 r a decade of experience with palliative care\, with two more decades befo
 re that as primary care physician. She has previously given a TEDx Talk o
 n the subject of palliative care\, which she will expand upon at the prese
 ntation. She will discuss what palliative care is\, how it can be helpful\
 , some of the decision points involved\, and how to...
DTSTART;TZID=America/New_York:20190519T100000
DTEND;TZID=America/New_York:20190519T120000
END:VEVENT
END:VCALENDAR
