BEGIN:VCALENDAR
PRODID:-//eluceo/ical//2.0/EN
VERSION:2.0
CALSCALE:GREGORIAN
BEGIN:VEVENT
UID:4ea400193659f50a3203b93ae3287ea0
DTSTAMP:20260420T004941Z
SUMMARY:10:00 am TBE BimBom Buddies Playgroup
DESCRIPTION:Shalom Lehigh Valley\nCommunity Calendar\nhttps://shalomlehighv
 alley.org/calendar/1000-am-tbe-bim-bom-buddies-playgroup-12-9-17-224940\n\
 nContact Michelle Rohrbach: michelle@bethelallentown.org or 610-435-3521
DTSTART;TZID=America/New_York:20171209T100000
DTEND;TZID=America/New_York:20171209T110000
END:VEVENT
END:VCALENDAR
