BEGIN:VCALENDAR
PRODID:-//eluceo/ical//2.0/EN
VERSION:2.0
CALSCALE:GREGORIAN
BEGIN:VEVENT
UID:dcad8e653d28f2c4e17c81ca33bbdbb8
DTSTAMP:20260420T125928Z
SUMMARY:10:00 am TBE Bimbom Buddies Shabbat Playgroup
DESCRIPTION:Shalom Lehigh Valley\nCommunity Calendar\nhttps://shalomlehighv
 alley.org/calendar/1000-am-tbe-bimbom-buddies-shabbat-playgroup-1-28-17-18
 6270\n\nContact Michelle Rohrbach: michelle@bethelallentown.org or 610-435
 -3521.
DTSTART;TZID=America/New_York:20170128T100000
DTEND;TZID=America/New_York:20170128T113000
END:VEVENT
END:VCALENDAR
