BEGIN:VCALENDAR
PRODID:-//eluceo/ical//2.0/EN
VERSION:2.0
CALSCALE:GREGORIAN
BEGIN:VEVENT
UID:8d66587a417301faf6b0d1306998eb9f
DTSTAMP:20260421T111058Z
SUMMARY:10:00 am TBE Chanu Can Program
DESCRIPTION:Shalom Lehigh Valley\nCommunity Calendar\nhttps://shalomlehighv
 alley.org/calendar/1000-am-tbe-chanu-can-program-12-13-15-141032\n\nContac
 t Michelle Rohrbach: michelle@bethelallentown.org or 610-435-3521.
DTSTART;TZID=America/New_York:20151213T100000
DTEND;TZID=America/New_York:20151213T110000
END:VEVENT
END:VCALENDAR
