BEGIN:VCALENDAR
PRODID:-//eluceo/ical//2.0/EN
VERSION:2.0
CALSCALE:GREGORIAN
BEGIN:VEVENT
UID:f1014cd7b6a99df1ec796124ab9ce0cd
DTSTAMP:20260419T215002Z
SUMMARY:10:00 am TBE Dor L' Dor Program
DESCRIPTION:Shalom Lehigh Valley\nCommunity Calendar\nhttps://shalomlehighv
 alley.org/calendar/1000-am-tbe-dor-l-dor-program-11-4-17-224906\n\nContact
  Michelle Rohrbach: michelle@bethelallentown.org or 610-435-3521.
DTSTART;TZID=America/New_York:20171104T100000
DTEND;TZID=America/New_York:20171104T110000
END:VEVENT
END:VCALENDAR
