BEGIN:VCALENDAR
PRODID:-//eluceo/ical//2.0/EN
VERSION:2.0
CALSCALE:GREGORIAN
BEGIN:VEVENT
UID:be71ac00dc4f36987fe25bf138e5c6b4
DTSTAMP:20260419T215053Z
SUMMARY:10:00 am TBE Dor L' Dor Program - SUKKOT
DESCRIPTION:Shalom Lehigh Valley\nCommunity Calendar\nhttps://shalomlehighv
 alley.org/calendar/1000-am-tbe-dor-l-dor-program-sukkot-304433\n\n10:00 am
  TBE Dor L’ Dor Program - SUKKOT - Dor L' Dor is intergenerational\, int
 egrated Shabbat Morning Services for parents and grandparents along with t
 heir kids. Interactive family services\, activities\, snack and more!  St
 ay for Kiddush lunch!
DTSTART;TZID=America/New_York:20191014T100000
DTEND;TZID=America/New_York:20191014T110000
END:VEVENT
END:VCALENDAR
