BEGIN:VCALENDAR
PRODID:-//eluceo/ical//2.0/EN
VERSION:2.0
CALSCALE:GREGORIAN
BEGIN:VEVENT
UID:a05f8e5fd25b5debd0afc21769f39b10
DTSTAMP:20260423T214558Z
SUMMARY:10:00 am TBE Dor L'Dor Program
DESCRIPTION:Shalom Lehigh Valley\nCommunity Calendar\nhttps://shalomlehighv
 alley.org/calendar/1000-am-tbe-dor-ldor-program-3-25-17-211806\n\nContact 
 Michelle Rohrbach: michelle@bethelallentown.org or 610-435-3521.
DTSTART;TZID=America/New_York:20170325T100000
DTEND;TZID=America/New_York:20170325T113000
END:VEVENT
END:VCALENDAR
