BEGIN:VCALENDAR
PRODID:-//eluceo/ical//2.0/EN
VERSION:2.0
CALSCALE:GREGORIAN
BEGIN:VEVENT
UID:38cd3992b8c59e90594604578fc42fc2
DTSTAMP:20260421T150115Z
SUMMARY:10:00 am TBE Dor L'Dor Program April 2020
DESCRIPTION:Shalom Lehigh Valley\nCommunity Calendar\nhttps://shalomlehighv
 alley.org/calendar/1000-am-tbe-dor-ldor-program-april-2020-305409\n\n10:00
  am TBE Dor L' Dor Program April 2020
DTSTART;TZID=America/New_York:20200411T100000
DTEND;TZID=America/New_York:20200411T110000
END:VEVENT
END:VCALENDAR
