BEGIN:VCALENDAR
PRODID:-//eluceo/ical//2.0/EN
VERSION:2.0
CALSCALE:GREGORIAN
BEGIN:VEVENT
UID:625b57d12c3aac09f0de763d42e88739
DTSTAMP:20260420T112759Z
SUMMARY:10:00 am TBE Grade 3 Family Program
DESCRIPTION:Shalom Lehigh Valley\nCommunity Calendar\nhttps://shalomlehighv
 alley.org/calendar/1000-am-tbe-grade-3-family-program3-6-16-141123\n\nCont
 act Michelle Rohrbach: michelle@bethelallentown.org or 610-435-3521.
DTSTART;TZID=America/New_York:20160306T100000
DTEND;TZID=America/New_York:20160306T120000
END:VEVENT
END:VCALENDAR
