BEGIN:VCALENDAR
PRODID:-//eluceo/ical//2.0/EN
VERSION:2.0
CALSCALE:GREGORIAN
BEGIN:VEVENT
UID:e1a402e9135748ec1d3fc2e2150c235c
DTSTAMP:20260420T105152Z
SUMMARY:10:00 am TBE Grade 6 Led Service
DESCRIPTION:Shalom Lehigh Valley\nCommunity Calendar\nhttps://shalomlehighv
 alley.org/calendar/1000-am-tbe-grade-6-led-service-2-10-18-225037\n\nConta
 ct Michelle Rohrbach: michelle@bethelallentown.org or 610-435-3521.
DTSTART;TZID=America/New_York:20180210T100000
DTEND;TZID=America/New_York:20180210T113000
END:VEVENT
END:VCALENDAR
