BEGIN:VCALENDAR
PRODID:-//eluceo/ical//2.0/EN
VERSION:2.0
CALSCALE:GREGORIAN
BEGIN:VEVENT
UID:f58d72ed701663a433d7366a13c07612
DTSTAMP:20260420T031810Z
SUMMARY:10:00 am TBE Youth Services
DESCRIPTION:Shalom Lehigh Valley\nCommunity Calendar\nhttps://shalomlehighv
 alley.org/calendar/1000-am-tbe-youth-services-2-25-17-211789\n\nContact Mi
 chelle Rohrbach: michelle@bethelallentown.org or 610-435-3521.
DTSTART;TZID=America/New_York:20170225T100000
DTEND;TZID=America/New_York:20170225T113000
END:VEVENT
END:VCALENDAR
