BEGIN:VCALENDAR
PRODID:-//eluceo/ical//2.0/EN
VERSION:2.0
CALSCALE:GREGORIAN
BEGIN:VEVENT
UID:d5d0349c8b4253c61f6b3865253f9d75
DTSTAMP:20260419T161439Z
SUMMARY:10:00 pm Community Selichot Service
DESCRIPTION:Shalom Lehigh Valley\nCommunity Calendar\nhttps://shalomlehighv
 alley.org/calendar/1000-pm-community-selichot-service-9-20-14-62029\n\nCon
 tact Michelle Rohrbach: michelle@bethelallentown.org or 610-435-3521.
DTSTART;TZID=America/New_York:20140920T220000
DTEND;TZID=America/New_York:20140920T230000
END:VEVENT
END:VCALENDAR
