BEGIN:VCALENDAR
PRODID:-//eluceo/ical//2.0/EN
VERSION:2.0
CALSCALE:GREGORIAN
BEGIN:VEVENT
UID:a5022203bc57f9c50ac3751b41ed9619
DTSTAMP:20260419T143512Z
SUMMARY:10:00 pm TBE Ma'ariv Service
DESCRIPTION:Shalom Lehigh Valley\nCommunity Calendar\nhttps://shalomlehighv
 alley.org/calendar/1000-pm-tbe-maariv-service-3539\n\n10:00 pm TBE Ma'ariv
  Service
DTSTART;TZID=America/New_York:20140603T220000
DTEND;TZID=America/New_York:20140603T230000
END:VEVENT
END:VCALENDAR
