BEGIN:VCALENDAR
PRODID:-//eluceo/ical//2.0/EN
VERSION:2.0
CALSCALE:GREGORIAN
BEGIN:VEVENT
UID:0e7d145bc8fcb93fd5f94e0ba6593f57
DTSTAMP:20260419T171056Z
SUMMARY:10:00 am JDS Car Wash
DESCRIPTION:Shalom Lehigh Valley\nCommunity Calendar\nhttps://shalomlehighv
 alley.org/calendar/1000am-jds-car-wash-4-22-18-259573\n\nContact Adrienne 
 Manger: amanger@jdslv.org or 610-437-0721.
DTSTART;TZID=America/New_York:20180422T100000
DTEND;TZID=America/New_York:20180422T120000
END:VEVENT
END:VCALENDAR
