BEGIN:VCALENDAR
PRODID:-//eluceo/ical//2.0/EN
VERSION:2.0
CALSCALE:GREGORIAN
BEGIN:VEVENT
UID:b1a94dabd16e84d9f84e16d1cf29c7e7
DTSTAMP:20260420T131911Z
SUMMARY:1:00 pm JCC AARP Safe Driver Course
DESCRIPTION:Shalom Lehigh Valley\nCommunity Calendar\nhttps://shalomlehighv
 alley.org/calendar/100pm-jcc-aarp-safe-driver-course-125492\n\n$15 for AAR
 P Members. $20 for Non-Members. Contact Melissa Hakim at mhakim@lvjcc.org 
 or 610-435-3571. 
DTSTART;TZID=America/New_York:20150422T130000
DTEND;TZID=America/New_York:20150422T170000
END:VEVENT
END:VCALENDAR
