BEGIN:VCALENDAR
PRODID:-//eluceo/ical//2.0/EN
VERSION:2.0
CALSCALE:GREGORIAN
BEGIN:VEVENT
UID:c7263cdf1013e7b333810f4bab21b7fd
DTSTAMP:20260420T175518Z
SUMMARY:Women's Philanthropy Mitzvah Project: HRC Organization
DESCRIPTION:Shalom Lehigh Valley\nCommunity Calendar\nhttps://shalomlehighv
 alley.org/calendar/1015-am-jflv-wp-mitzvah-project-hrc-organization-3-22-2
 3-429204\n\nJoin Women's Philanthropy of the Jewish Federation for an impo
 rtant mitzvah project. The community's Holocaust Resource Center\, loc
 ated inside the Jewish Community Center\, is in need of sprucing up for f
 uture generations to use and cherish. The center is filled with historic i
 nformation and resources that need to be organized and we would love your 
 assistance!\n\nJoin us for one\, two or all of the dates. The additional 
 dates and times are:\n\nApril 4: 10:30 a.m. -12:30 p.m.\n\nClick her...
DTSTART;TZID=America/New_York:20230322T101500
DTEND;TZID=America/New_York:20230322T121500
END:VEVENT
END:VCALENDAR
