BEGIN:VCALENDAR
PRODID:-//eluceo/ical//2.0/EN
VERSION:2.0
CALSCALE:GREGORIAN
BEGIN:VEVENT
UID:3e0386908b713a3fa324975e8660fcee
DTSTAMP:20260420T003020Z
SUMMARY:10:15 am TBE Dor L' Dor Program - Sukkot
DESCRIPTION:Shalom Lehigh Valley\nCommunity Calendar\nhttps://shalomlehighv
 alley.org/calendar/1015-am-tbe-dor-l-dor-program-sukkot-9-24-18-265685\n\n
 Contact Michelle Rohrbach: michelle@bethelallentown.org or 610-435-3521.
DTSTART;TZID=America/New_York:20180924T101500
DTEND;TZID=America/New_York:20180924T114500
END:VEVENT
END:VCALENDAR
