BEGIN:VCALENDAR
PRODID:-//eluceo/ical//2.0/EN
VERSION:2.0
CALSCALE:GREGORIAN
BEGIN:VEVENT
UID:0946dc060aa9dcf1b801222e5a1d3a38
DTSTAMP:20260420T042956Z
SUMMARY:10:15 am TBE GPS Guided Prayer Service
DESCRIPTION:Shalom Lehigh Valley\nCommunity Calendar\nhttps://shalomlehighv
 alley.org/calendar/1015-am-tbe-gps-guided-prayer-service-3-2-19-265989\n\n
 Contact Michelle Rohrbach: michelle@bethelallentown.org or 610-435-3521.  
DTSTART;TZID=America/New_York:20190302T101500
DTEND;TZID=America/New_York:20190302T113000
END:VEVENT
END:VCALENDAR
