BEGIN:VCALENDAR
PRODID:-//eluceo/ical//2.0/EN
VERSION:2.0
CALSCALE:GREGORIAN
BEGIN:VEVENT
UID:2bfda57302fa356c611fab0cf3e7a4e7
DTSTAMP:20260420T043028Z
SUMMARY:10:15 am TBE GPS: Guided Prayer Service April 2020
DESCRIPTION:Shalom Lehigh Valley\nCommunity Calendar\nhttps://shalomlehighv
 alley.org/calendar/1015-am-tbe-gps-guided-prayer-service-april-2020-305414
 \n\n10:15 am TBE GPS: (Guided Prayer Service) where you can explore parts 
 of the service\, focusing on the how\, why and what of the prayer service.
   This is a user-friendly class with Shari Spark.  Come for the entire t
 ime or just drop in anytime. (In the Library)
DTSTART;TZID=America/New_York:20200418T101500
DTEND;TZID=America/New_York:20200418T111500
END:VEVENT
END:VCALENDAR
