BEGIN:VCALENDAR
PRODID:-//eluceo/ical//2.0/EN
VERSION:2.0
CALSCALE:GREGORIAN
BEGIN:VEVENT
UID:78acde618176210a4cb79c43a4478228
DTSTAMP:20260420T121357Z
SUMMARY:10:15 am TBE GPS: Guided Prayer Service Dec. 2019
DESCRIPTION:Shalom Lehigh Valley\nCommunity Calendar\nhttps://shalomlehighv
 alley.org/calendar/1015-am-tbe-gps-guided-prayer-service-dec-2019-304454\n
 \n10:15 am GPS: (Guided Prayer Service) Dec. 2019 where you can explore pa
 rts of the service\, focusing on the how\, why and what of the prayer serv
 ice.  This is a user-friendly class with Shari Spark.  Come for the enti
 re time or just drop in anytime. (In the Library)
DTSTART;TZID=America/New_York:20191207T101500
DTEND;TZID=America/New_York:20191207T111500
END:VEVENT
END:VCALENDAR
