BEGIN:VCALENDAR
PRODID:-//eluceo/ical//2.0/EN
VERSION:2.0
CALSCALE:GREGORIAN
BEGIN:VEVENT
UID:48a05c782cefa3005f4bfde8edf96373
DTSTAMP:20260419T190813Z
SUMMARY:10:15 am TBE GPS: Guided Prayer Service
DESCRIPTION:Shalom Lehigh Valley\nCommunity Calendar\nhttps://shalomlehighv
 alley.org/calendar/1015-am-tbe-gpsguided-prayer-service-2-10-18-225033\n\n
 Contact Michelle Rohrbach: michelle@bethelallentown.org or 610-435-3521.
DTSTART;TZID=America/New_York:20180210T101500
DTEND;TZID=America/New_York:20180210T113000
END:VEVENT
END:VCALENDAR
